BEGIN:VCALENDAR
VERSION:2.0
PRODID:-//Veterans Entrepreneurship Initiative - ECPv6.15.20//NONSGML v1.0//EN
CALSCALE:GREGORIAN
METHOD:PUBLISH
X-ORIGINAL-URL:https://vei.center
X-WR-CALDESC:Events for Veterans Entrepreneurship Initiative
REFRESH-INTERVAL;VALUE=DURATION:PT1H
X-Robots-Tag:noindex
X-PUBLISHED-TTL:PT1H
BEGIN:VTIMEZONE
TZID:America/New_York
BEGIN:DAYLIGHT
TZOFFSETFROM:-0500
TZOFFSETTO:-0400
TZNAME:EDT
DTSTART:20250309T070000
END:DAYLIGHT
BEGIN:STANDARD
TZOFFSETFROM:-0400
TZOFFSETTO:-0500
TZNAME:EST
DTSTART:20251102T060000
END:STANDARD
BEGIN:DAYLIGHT
TZOFFSETFROM:-0500
TZOFFSETTO:-0400
TZNAME:EDT
DTSTART:20260308T070000
END:DAYLIGHT
BEGIN:STANDARD
TZOFFSETFROM:-0400
TZOFFSETTO:-0500
TZNAME:EST
DTSTART:20261101T060000
END:STANDARD
BEGIN:DAYLIGHT
TZOFFSETFROM:-0500
TZOFFSETTO:-0400
TZNAME:EDT
DTSTART:20270314T070000
END:DAYLIGHT
BEGIN:STANDARD
TZOFFSETFROM:-0400
TZOFFSETTO:-0500
TZNAME:EST
DTSTART:20271107T060000
END:STANDARD
END:VTIMEZONE
BEGIN:VEVENT
DTSTART;TZID=America/New_York:20260307T100000
DTEND;TZID=America/New_York:20260307T150000
DTSTAMP:20260425T094439
CREATED:20251222T181646Z
LAST-MODIFIED:20251222T181807Z
UID:10000201-1772877600-1772895600@vei.center
SUMMARY:VEI Boost Cohort Spring 2026
DESCRIPTION:Let’s get started on your business! \nThis in-person cohort will dive deeper into to various topics that are critical to launching and growing your business. After completing VEI Launch\, this VEI Boost Cohort will provide additional assistance and identify areas where you need to focus your energy to help your business succeed. The Growthwheel platform will be utilized during this cohort. \nTime: 10am-3pm on Saturday dates below: \nDates: \n\nSession 1: Saturday\, Mar 7\nSession 2: Saturday\, Mar 14\nSession 3: Saturday\, Mar 28\n\nLocation: National Entrepreneur Center in Orlando\, FL \nRequirements: \n\nDD214 Member-4 form or VA Letter showing honorable discharge\nMust be able to attend all classes\nVeteran or veteran spouse\nFlorida Resident in the Central Florida area\n\n\n\nApply here
URL:https://vei.center/event/vei-boost-cohort-spring-2026-2/
LOCATION:National Entrepreneur Center\, 3201 E. Colonial Drive\, Suite A20\, Orlando\, FL\, 32803\, United States
CATEGORIES:Cohorts,VEI Boost
ATTACH;FMTTYPE=image/png:https://vei.center/wp-content/uploads/2025/12/Boost-Spring-2026.png
END:VEVENT
BEGIN:VEVENT
DTSTART;TZID=America/New_York:20260316T180000
DTEND;TZID=America/New_York:20260316T203000
DTSTAMP:20260425T094439
CREATED:20260107T143412Z
LAST-MODIFIED:20260107T143412Z
UID:10000204-1773684000-1773693000@vei.center
SUMMARY:Entrepreneurial Operating System Training - March 2026
DESCRIPTION:Elevate Your Business with EOS! \nThis workshop is crafted for entrepreneurs ready to take their business to the next level using the proven tools of the Entrepreneurial Operating System (EOS). \nDuring this interactive session\, you will:\n• Master the six key components of successful businesses: Vision\, People\, Data\, Issues\, Processes\, and Traction\n• Explore practical tools like the Vision/Traction Organizer™ (V/TO™) and Level 10 Meetings™ to align your team and drive measurable results\n• Learn strategies to strengthen your leadership team and boost accountability across your organization\n• Participate in hands-on exercises to start building your EOS framework and gain actionable insights tailored to your business \nWhether you’re starting your EOS journey or looking to refine your implementation\, this workshop equips you with the strategies and support to grow with confidence. Walk away with a clearer vision for your business and the tools to turn it into reality! \nREGISTER HERE \nPresented by: Mike Ellicott\, Professional EOS Implementer® at EOS Worldwide \nI’m a proud husband and father\, a driven veteran and an aspiring fisherman. I’m also a first-generation entrepreneur who’s spent 29 years leading organizations & delivering projects around the world\, in & out of the military. \nI help leaders get a grip on their business\, build healthy teams\, and drive growth. Every business owner alive is frustrated by at least one of these: lack of control\, lack of profit\, people\, feeling that they’ve been hitting the ceiling\, that none of the books they’ve read\, the consultants they’ve hired or the business tools they’ve tried get you what you want – that’s normal\, but it doesn’t have to be your normal. \nTogether we implement the Entrepreneurial Operating System (EOS) in the business. EOS is a complete proven system of simple\, practical tools that gets everyone on the same page with where you are going & how you’ll get there (your Vision!)\, instills real accountability into the execution on that Vision (gaining Traction!) and helps you become more open & honest\, functional\, cohesive & fun loving as a team (get Healthy!). \nAs one of 530 professional EOS Implementers worldwide\, it is an absolute blast to work with owners and leaders of great entrepreneurial businesses\, adding value & getting greater! \nREGISTER HERE
URL:https://vei.center/event/entrepreneurial-operating-system-training-march-2026/
LOCATION:Online Program
CATEGORIES:Workshop
ATTACH;FMTTYPE=image/png:https://vei.center/wp-content/uploads/2026/01/EOS-Training-Feb-2025-scaled.png
END:VEVENT
BEGIN:VEVENT
DTSTART;TZID=America/New_York:20260326T183000
DTEND;TZID=America/New_York:20260326T210000
DTSTAMP:20260425T094439
CREATED:20251222T182748Z
LAST-MODIFIED:20260307T174321Z
UID:10000202-1774549800-1774558800@vei.center
SUMMARY:VEI Virtual Launch Cohort - March 2026
DESCRIPTION:Apply here! For our VIRTUAL Spring 2026 Launch Cohort 3. \n\nThis cohort will introduce you to the Business Model Canvas and provide an in-depth insight into the key steps needed to build a startup. The cohort will enable participants at the idea stage or in the early stages of business development to learn how to rapidly develop and test ideas by gathering customer and marketplace feedback. Our methodology also enables participants to validate their business model by focusing on searching for pain points and unmet needs of their customers. This iterative process will enable you to quickly pivot with the goal of ultimately building the foundation for a viable business model. \nPlease note this course will be held via Zoom. \n\nRequirements: \n\nDD214 Member-4 form or VA Letter showing honorable discharge\nFlorida Resident \nVeteran or veteran spouse\n\nApplication Required: Apply here! \n\n\nVirtual via Zoom\n7 Sessions every Thursday evening\, starting March 26\, 2026.\n3 hours per session\nDates:\n\n3/26 – Intro to the Business Model Canvas\, Lean Methodology & Elevator Pitch\n4/2 – Value Proposition & Customer Segments\n4/9 – Channels & Customer Relationships\n4/16 – Revenue Streams & Key Partners\n4/23 – Key Resources & Key Activities\n4/30 – Cost Structure & Business Model Canvas Review\n5/7 – Resources\, Networking Opportunities & Class Recognition
URL:https://vei.center/event/vei-launch-cohort-january-2026/
LOCATION:FL
CATEGORIES:Cohorts,VEI Launch
ATTACH;FMTTYPE=image/png:https://vei.center/wp-content/uploads/2025/12/Launch-virtual-2026.png
END:VEVENT
END:VCALENDAR