BEGIN:VCALENDAR
VERSION:2.0
PRODID:-//Veterans Entrepreneurship Initiative - ECPv6.15.20//NONSGML v1.0//EN
CALSCALE:GREGORIAN
METHOD:PUBLISH
X-WR-CALNAME:Veterans Entrepreneurship Initiative
X-ORIGINAL-URL:https://vei.center
X-WR-CALDESC:Events for Veterans Entrepreneurship Initiative
REFRESH-INTERVAL;VALUE=DURATION:PT1H
X-Robots-Tag:noindex
X-PUBLISHED-TTL:PT1H
BEGIN:VTIMEZONE
TZID:America/New_York
BEGIN:DAYLIGHT
TZOFFSETFROM:-0500
TZOFFSETTO:-0400
TZNAME:EDT
DTSTART:20250309T070000
END:DAYLIGHT
BEGIN:STANDARD
TZOFFSETFROM:-0400
TZOFFSETTO:-0500
TZNAME:EST
DTSTART:20251102T060000
END:STANDARD
BEGIN:DAYLIGHT
TZOFFSETFROM:-0500
TZOFFSETTO:-0400
TZNAME:EDT
DTSTART:20260308T070000
END:DAYLIGHT
BEGIN:STANDARD
TZOFFSETFROM:-0400
TZOFFSETTO:-0500
TZNAME:EST
DTSTART:20261101T060000
END:STANDARD
BEGIN:DAYLIGHT
TZOFFSETFROM:-0500
TZOFFSETTO:-0400
TZNAME:EDT
DTSTART:20270314T070000
END:DAYLIGHT
BEGIN:STANDARD
TZOFFSETFROM:-0400
TZOFFSETTO:-0500
TZNAME:EST
DTSTART:20271107T060000
END:STANDARD
END:VTIMEZONE
BEGIN:VEVENT
DTSTART;TZID=America/New_York:20260514T123000
DTEND;TZID=America/New_York:20260514T180000
DTSTAMP:20260425T093920
CREATED:20260423T140104Z
LAST-MODIFIED:20260423T140104Z
UID:10000321-1778761800-1778781600@vei.center
SUMMARY:VEI Veteran Business Summit 2026
DESCRIPTION:  \nYou’re invited to join us at the 2026 Veteran Business Summit\, taking place on May 14\, 2026 at 12:30pm at the GuideWell Innovation Center in Lake Nona. \n \nThis year’s Summit will bring together 200+ veteran entrepreneurs\, business leaders\, and investors for an afternoon of high-impact conversations\, connections\, and opportunities you won’t want to miss. \nRegister now: www.VeteranBusinessSummit.com \nSpots are limited and this event will sell out — I highly encourage you to lock in your ticket today. \nLooking forward to seeing you there.
URL:https://vei.center/event/vei-veteran-business-summit-2026/
LOCATION:GuideWell Innovation Center\, 6555 Sanger Road\, Orlando\, FL\, 32827\, United States
CATEGORIES:Alumni Event,Business Summit
END:VEVENT
BEGIN:VEVENT
DTSTART;TZID=America/New_York:20260518T170000
DTEND;TZID=America/New_York:20260518T200000
DTSTAMP:20260425T093920
CREATED:20260421T210045Z
LAST-MODIFIED:20260422T153806Z
UID:10000320-1779123600-1779134400@vei.center
SUMMARY:AI for Veteran Entrepreneurs
DESCRIPTION:Access to AI tools is expanding rapidly\, but many business owners are only scratching the surface using AI for quick tasks instead of integrating them into their daily workflows. \nIn this hands-on session\, we’ll show you how to apply AI across the work you’re already doing\, with a focus on marketing\, content creation\, and operations. You’ll learn practical\, real-world workflows for generating images and video\, managing projects\, and creating systems that save time while improving quality. \nWe’ll also cover how to choose the right AI tools for different tasks\, turn your ideas into repeatable processes\, and avoid common mistakes that lead to inconsistent results. \nBy the end of this session\, you’ll walk away with: \n\nClear\, real-world examples you can start using immediately\nA repeatable workflow to streamline your business processes\nA smarter\, more strategic approach to using AI for growth\n\nDrinks and refreshments will be provided. \n>>>Register HERE \nSeats are limited – reserve yours today!
URL:https://vei.center/event/ai-for-veteran-entrepreneurs/
LOCATION:National Entrepreneur Center\, 3201 E. Colonial Drive\, Suite A20\, Orlando\, FL\, 32803\, United States
CATEGORIES:Workshop
ATTACH;FMTTYPE=image/png:https://vei.center/wp-content/uploads/2026/04/Fit-for-website-2.png
END:VEVENT
BEGIN:VEVENT
DTSTART;TZID=America/New_York:20260526T183000
DTEND;TZID=America/New_York:20260526T210000
DTSTAMP:20260425T093920
CREATED:20260412T105020Z
LAST-MODIFIED:20260412T224853Z
UID:10000318-1779820200-1779829200@vei.center
SUMMARY:VEI Virtual Summer Launch Cohort 4 - 26 May 2026
DESCRIPTION:Apply here! For our VIRTUAL Summer 2026 Launch Cohort 4. \n\nThis cohort will introduce you to the Business Model Canvas and provide an in-depth insight into the key steps needed to build a startup. The cohort will enable participants at the idea stage or in the early stages of business development to learn how to rapidly develop and test ideas by gathering customer and marketplace feedback. Our methodology also enables participants to validate their business model by focusing on searching for pain points and unmet needs of their customers. This iterative process will enable you to quickly pivot with the goal of ultimately building the foundation for a viable business model. \nPlease note this course will be held via Zoom. \n\nRequirements: \n\nDD214 Member-4 form or VA Letter showing honorable discharge\nFlorida Resident \nVeteran or veteran spouse\n\nApplication Required: Apply here! \n\n\nVirtual via Zoom\n7 Sessions Tuesday and Thursday evening\, starting May 26\, 2026.\n3 hours per session\nDates:\n\n5/26 – Intro to the Business Model Canvas\, Lean Methodology & Elevator Pitch\n5/28 – Value Proposition & Customer Segments\n6/2 – Channels & Customer Relationships\n6/4 – Revenue Streams & Key Partners\n6/9 – Key Resources & Key Activities\n6/11 – Cost Structure & Business Model Canvas Review
URL:https://vei.center/event/vei-virtual-launch-cohort-may-2026/
LOCATION:Online Program
CATEGORIES:Cohorts,VEI Launch
ATTACH;FMTTYPE=image/png:https://vei.center/wp-content/uploads/2026/03/Banner-for-website-VEI-LAUNCH-Facebook-Event-Cover-1280-x-720-px-1920-x-1080-px.png
END:VEVENT
BEGIN:VEVENT
DTSTART;TZID=America/New_York:20260527T173000
DTEND;TZID=America/New_York:20260527T193000
DTSTAMP:20260425T093920
CREATED:20260415T232616Z
LAST-MODIFIED:20260415T232616Z
UID:10000207-1779903000-1779910200@vei.center
SUMMARY:Ivanhoe Park Brewery Networking Event
DESCRIPTION:Join us for an evening of connection\, collaboration\, and community at Ivanhoe Park Brewing Company! This special networking event brings together veteran entrepreneurs\, business owners\, and professionals from across Central Florida for an opportunity to share ideas\, build partnerships\, and support one another’s success. \nWhether you’re launching your first venture\, growing an established business\, or looking to connect with like-minded veterans\, this event is designed to help you expand your network and open new doors. \nEnjoy great conversations\, local craft brews\, and the camaraderie that only comes from being part of the veteran business community. \nWhat to Expect: \n\nCasual networking in a relaxed atmosphere\nOpportunities to meet fellow veteran entrepreneurs and community partners\nInsights and resources to help you grow your business\n\nLet’s raise a glass to service\, success\, and the power of veteran entrepreneurship! \nAdmission: Free (registration required)\nDress Code: Business casual or comfortable attire \nMake sure you answer all of the questions when checking out. \n >>>Register Here
URL:https://vei.center/event/ivanhoe-park-brewery-networking-event-2/
LOCATION:Ivanhoe Park Lager House Brewing Co.\, 23 N Orange Blossom Trl\, Orlando\, FL\, 32805\, United States
CATEGORIES:Networking Events
ATTACH;FMTTYPE=image/png:https://vei.center/wp-content/uploads/2026/02/Ivanhoe-Park-Brewery-and-Networking-Event-12.3.25-3.png
END:VEVENT
END:VCALENDAR